BEGIN:VCALENDAR
VERSION:2.0
PRODID:-//Sudameris Jazz Trio - ECPv4.6.18//NONSGML v1.0//EN
CALSCALE:GREGORIAN
METHOD:PUBLISH
X-WR-CALNAME:Sudameris Jazz Trio
X-ORIGINAL-URL:https://www.sudameris-jazz.com
X-WR-CALDESC:Events for Sudameris Jazz Trio
BEGIN:VEVENT
DTSTART;TZID=Europe/Paris:20230812T210000
DTEND;TZID=Europe/Paris:20230812T230000
DTSTAMP:20260424T151344
CREATED:20230730T082919Z
LAST-MODIFIED:20230730T082919Z
UID:455-1691874000-1691881200@www.sudameris-jazz.com
SUMMARY:Ciné Concert au Château de Montfroc
DESCRIPTION:Château de Montfroc \nCiné-concert de film muets burlesques\nSamedi 12 août à 21h00 \nAprès le concert pour harpe celtique et basse\, du Duo Impressionniste le 29 juillet prochain\, nous sommes heureux de vous proposer une hilarante sélection de films muets burlesques proposés par le Ciné club amateur de Provence accompagnés au piano par Robert Rossignol\,  samedi 12 août.  \nLa saison culturelle se poursuivra le 16 septembre avec un Concert pour piano et voix de Addie Leitmotiv. \nSamedi 12 août à 21h00 \nCiné-concert de film muets burlesques\nProjection\, André Simien du Ciné-Club Amateur de Provence \nAu piano\, compositions\, improvisation\, Robert Rossignol  \nGrand prix du Jury Festival Musique sur court-métrage Casque d’Or 1998 à Paris. \nLauréat du Festival International du Film d’Aubagne en 2001. \nHarold bonne d’enfant\, court métrage burlesque de 1921 réalisé par Fred C. Newmeyer et Hal Roach  avec Harold Lloyd\, Mildred Davis et Anna Mae Bilson.\nHarold semble vraiment peu doué pour être bonne d’enfant. Après s’être fait voler son portefeuille\, les circonstances le conduisent à devenir le gardien d’une petite fille avec laquelle il voyage en chemin de fer. Aux mille incidents qui surgissent s’ajoute celui d’avoir un seul billet pour deux.\nHarold devra-t-il escamoter l’enfant ou s’escamoter lui-même? \nMax Linder et la statue\, de Max Linder (1910) \nPour un bal costumé\, Max choisit une armure. Suite à une nuit bien arrosée\, il se retrouve sur le trottoir\, embarqué par la marée chaussée qui le prend pour l’armure du chevalier Bayard\, tout juste dérobée au Louvre. \nBeaucitron inventeur\, comédie burlesque de Hugh Fay avec Harry ‘Snub’ Pollard (1923) \nLe troisième Larron\, court-métrage burlesque de F. Richard Jones avec Charlie Murray\, Charlotte Mineau\, James Finlayson\, Ben Turpin et Billy Armstrong (1919) \nCourt-Métrage Burlesque de 1919 réalisé par F. Richard Jones avec Charlie Murray\, Charlotte Mineau\, James Finlayson\, Ben Turpin et Billy Armstrong.\nProduction Mack Sennett Comedies.\nHector vient d’être nommé maître d’école dans une province américaine. Il part en auto sur le lieu de son nouvel emploi mais le chauffeur peu efficace rend le déplacement laborieux. \nChampion de l’affiche\, de Ralph Cedar (1917) \nRalph Ceder commence à réaliser des films en 1917\, il travaille pour Universal Studios et Paramount Pictures. Il réalise notamment des films pour Mack Sennett\, le duo Laurel et Hardy\, ainsi que Abbott et Costello.  \nCharlot patine\, de Charlie Chaplin (1916) \nPour ce huitième film chez la Mutual\, Charlot est tout d’abord serveur en brasserie. En salle et en cuisine\, il enchaîne les fausses maladresses (les portes battantes\, les cocktails…) qui se retournent inévitablement contre les clients ou ses collègues… La deuxième partie donne son titre au film en retenant l’attention et les mémoires : sur une patinoire attenante\, Charlot montre une fois de plus ses dons d’acrobate et ridiculise ses adversaires sur la glace grâce à quelques figures de haute volée où l’adresse rivalise avec l’esthétique…  \nRestauration prévue sur place à partir de 19 h \nConcert à 21 h \nTarif : 15 € \nEntrée gratuite pour les enfants \nLa billetterie est ouverte! \nVous pouvez d’ores et déjà réserver vos billets en suivant ce lien : \nhttps://www.helloasso.com/associations/chemins-de-ronde/evenements/cine-concert-de-film-muets-burlesques \nUn verre est offert à nos adhérents \nhttps://www.helloasso.com/associations/chemins-de-ronde/adhesions/adhesion-annuelle \nPour toute information vous pouvez nous contacter \npar mail : contact@cheminsderonde.fr \nou par téléphone & WhatsApp : 06 75 26 15 36 \n
URL:https://www.sudameris-jazz.com/event/cine-concert-au-chateau-de-montfroc-3/
LOCATION:Montfroc\, 26560\, France
CATEGORIES:Ciné-Concert
ATTACH;FMTTYPE=image/jpeg:https://www.sudameris-jazz.com/newsudam/wp-content/uploads/2023/07/cine-concer-montfroc.jpg
END:VEVENT
END:VCALENDAR